BEGIN:VCALENDAR
VERSION:2.0
PRODID:-//Tukios.com/
BEGIN:VEVENT
UID:046cece9-bc0d-4884-a567-37393ccc0b37@www.dfhlamar.com
DTSTAMP:20260421T033417Z
DTSTART:20260424T190000Z
DTEND:20260424T200000Z
SUMMARY:Funeral Service
DESCRIPTION:
URL:https://www.dfhlamar.com/obituaries/william-willie-splitter
LOCATION:Lamar Christian Church 1208 Walnut St  Lamar MO 64759
GEO:37.4926053;-94.280064
END:VEVENT
END:VCALENDAR