BEGIN:VCALENDAR
VERSION:2.0
PRODID:-//Tukios.com/
BEGIN:VEVENT
UID:fa987336-8948-48a2-88cf-a6f559a4ae86@www.dfhlamar.com
DTSTAMP:20260421T033637Z
DTSTART:20260423T230000Z
DTEND:20260424T010000Z
SUMMARY:Visitation
DESCRIPTION:
URL:https://www.dfhlamar.com/obituaries/william-willie-splitter
LOCATION:Lamar Christian Church 1208 Walnut St  Lamar MO 64759
GEO:37.4926053;-94.280064
END:VEVENT
END:VCALENDAR